BEGIN:VCALENDAR
VERSION:2.0
PRODID:-//Saskatchewan Craft Council - ECPv6.15.13//NONSGML v1.0//EN
CALSCALE:GREGORIAN
METHOD:PUBLISH
X-ORIGINAL-URL:https://saskcraftcouncil.org
X-WR-CALDESC:Events for Saskatchewan Craft Council
REFRESH-INTERVAL;VALUE=DURATION:PT1H
X-Robots-Tag:noindex
X-PUBLISHED-TTL:PT1H
BEGIN:VTIMEZONE
TZID:America/Regina
BEGIN:STANDARD
TZOFFSETFROM:-0600
TZOFFSETTO:-0600
TZNAME:CST
DTSTART:20240101T000000
END:STANDARD
END:VTIMEZONE
BEGIN:VEVENT
DTSTART;VALUE=DATE:20250503
DTEND;VALUE=DATE:20250521
DTSTAMP:20260425T175300
CREATED:20250507T211023Z
LAST-MODIFIED:20250508T215753Z
UID:48698-1746230400-1747785599@saskcraftcouncil.org
SUMMARY:Public Open House - Dimensions 2025
DESCRIPTION:From May 2nd to 20th\, we will have the 60 shortlisted pieces for Dimensions 2025 on display in SCC Gallery. Click here for our hours. \nWe had 222 works submitted to the open exhibition by Saskatchewan artists and craftspeople. Our Jurors Brendan Lee Satish Tang and Wally Dion selected 60 works to move onto the next round of jurying. \nThe Virtual Open House is up on our website as well. All 222 submitted works are available to view online.
URL:https://saskcraftcouncil.org/event/public-open-house-dimensions-2025/
LOCATION:Saskatchewan Craft Council Gallery\, 813 Broadway Avenue\, Saskatoon\, SK\, S7N 1B5\, Canada
CATEGORIES:Virtual,In Person
ATTACH;FMTTYPE=image/jpeg:https://saskcraftcouncil.org/wp-content/uploads/2025/04/Dimensions-2025-Call-for-Applicants-V3-1.jpg
END:VEVENT
BEGIN:VEVENT
DTSTART;TZID=America/Regina:20250510T140000
DTEND;TZID=America/Regina:20250510T170000
DTSTAMP:20260425T175300
CREATED:20250507T211453Z
LAST-MODIFIED:20250508T215302Z
UID:48702-1746885600-1746896400@saskcraftcouncil.org
SUMMARY:Dimensions Celebration: Awards & Exhibition Announcement
DESCRIPTION:On Saturday\, May 10th at 2 pm Saskatchewan time\, the Dimensions 2025 Jurors Brendan Lee Satish Tang and Wally Dion will discuss their individual art practices\, we’ll announce the selected works for Dimensions 2025\, and the accompanying Dimensions 2025 Awards will be presented to the winning artists! These prestigious fine craft awards come with over $15\,000 in prize money. A reception with coffee and treats will follow in the Riverview Foyer.  \nThis in-person event has SOLD OUT\, but the presentation will be livestreamed on YouTube. That video will be available to watch anytime after the event as well. \nNote: If you reserved a seat and can no longer attend\, or if you need an additional seat\, please let us know at exhibitions@saskcraftcouncil.org.
URL:https://saskcraftcouncil.org/event/dimensions-celebration-awards-exhibition-announcement/
LOCATION:Remai Modern\, 102 Spadina Crescent E\, Saskatoon\, Saskatchewan\, S7K 0L3\, Canada
CATEGORIES:Virtual,In Person
ATTACH;FMTTYPE=image/jpeg:https://saskcraftcouncil.org/wp-content/uploads/2025/05/Dim-Celebration.jpg
END:VEVENT
END:VCALENDAR